{"text_format":"1","workbook":"xlsx","n_sheets":3,"sheets":["2017 Results","2018 Results","2018 Handicap Times"],"not_rendered":{"charts":0,"images":0,"macros":0,"external_links":0,"defined_names":1,"comments":0,"pivot_tables":0},"unopened":[],"bounds":{"document_bytes":16777216,"sheet_cells":100000,"rows_first":2000,"rows_last":500,"rows_between":2000,"halvings":0,"cell_chars":16384,"cell_head_chars":4096},"cells_cut":0,"cells_raw":0,"read":"whole","date_system":"1900"}

{"sheet":"2017 Results","index":0,"n_rows":31,"n_cols":11,"rows_kept":31,"cut":false,"hidden":true,"merged":[]}
["Wakefield Harriers Christmas Handicap 2017",null,null,null,null,null,null,null,"Tuesday Dec 19th 2017"]
[]
[null,null,null,"Clock Run","Estimated","Actual",null,null,"<------","Fastest Times","------>"]
["Pos","Name","Cat","Time","Time","Time","Diff",null,"Overall","Men","Women"]
[]
[1,"Craig Davidson","M","36-24","27-00","25-24","- 1-36",null,5,5]
[2,"Rebecca Zserdicky","F","36-50","32-45","31-35","-1-10",null,19,null,3]
[3,"Michael Page","M50","37-09","33-45","32-54","-0-51",null,22,19]
[4,"Matthew Hill","M17","37-10","25-15","24-25","-0-50",null,4,4]
[5,"Mark Bostock","M20","37-11","24-00","23-11","-0-49",null,2,2]
[6,"Hayley Newbound","F","37-17","31-15","30-32","-0-43",null,13,null,1]
[7,"Dale Worton","M","37-21","23-45","23-06","-0-39",null,1,1]
[8,"Andrew Nicholson","M","37-30","29-45","29-15","-0-30",null,7,7]
[9,"Jeremy Frain","M50","37-33","31-15","30-48","-0-27",null,18,16]
[10,"Ryan Williams","M","37-37","27-15","26-52","-0-23",null,6,6]
[11,"Rosie Boughton","F35","37-39","33-30","33-09","-0-21",null,23,null,4]
[12,"Lee Barker","M","37-43","29-45","29-28","-0-17",null,8,8]
[13,"Matthew O'Connor","M","37-50","24-00","23-50","-0-10",null,3,3]
[14,"Dave Brooke","M40","37-52","29-45","29-37","- 0-08",null,9,9]
[15,"Neil Shackleton","M","37-57","31-45","31-42","- 0-03",null,20,17]
[16,"Mandy Geary","F35","38-00","35-45","35-45","- 0-00",null,25,null,5]
[17,"Jonathon Stokoe","M","38-16","31-45","32-01","+ 0-16",null,21,18]
[18,"Lucie Hall","F17","38-26","30-15","30-41","+ 0-26",null,17,null,2]
[19,"James Morris","M","38-35","30-00","30-35","+ 0-35",null,15,14]
[20,"Patrick O'Connor","M50","38-39","29-15","29-54","+ 0-39",null,10,10]
[21,"Shaun Mollart","M50","38-41","29-30","30-11","+ 0-41",null,12,12]
[22,"Darren Hewitt","M45","38-49","29-45","30-34","+ 0-49",null,14,13]
[23,"Tony Smith","M45","39-09","29-30","30-39","+ 1-09",null,16,15]
[24,"Adrian Mann","M","39-34","32-00","33-34","+ 1-34",null,24,20]
[25,"Craig Heppenstall","M35","39-59","28-00","29-59","+ 1-59",null,11,11]
[26,"Elizabeth Turner","F","40-00","35-45","37-45","+ 2-00",null,26,null,6]

{"sheet":"2018 Results","index":1,"n_rows":48,"n_cols":11,"rows_kept":48,"cut":false,"hidden":false,"merged":[]}
["Wakefield Harriers Christmas Handicap 2018",null,null,null,null,null,null,null,"Tuesday Dec 18th 2018"]
[]
[null,null,null,null,null,null,null,null,"<------","Fastest Times","------>"]
["Pos","Name","Cat","Clock Run\nTime","Estimated\nTime","Actual\nTime","Diff",null,"Overall","Men","Women"]
[{"$f":"IF(ROW()=5,1,IF(D5=D4,A4,ROW()-4))","v":1},"Andrew Nicholson","M",{"$f":"VLOOKUP(B5,'2018 Handicap Times'!A:B,2,0)+F5","v":"00:34:31"},"00:29:45","00:27:31",{"$f":"IF(F5<E5,\"- \",\"+ \")&TEXT(ABS(F5-E5),\"MM:SS\")","v":"- 02:14"},null,{"$f":"COUNTIF(F$5:F$48,\"<\"&F5)+1","v":10},{"$f":"IF(C5=\"M\",COUNTIFS(F$5:F$48,\"<\"&F5,C$5:C$48,\"M\")+1,\"\")","v":10},{"$f":"IF(C5=\"F\",COUNTIFS(F$5:F$48,\"<\"&F5,C$5:C$48,\"F\")+1,\"\")","v":""}]
[2,"Nick Mannion","M",{"$f":"VLOOKUP(B6,'2018 Handicap Times'!A:B,2,0)+F6","v":"00:34:40"},"00:30:00","00:27:55","- 02:05",null,12,12,""]
[3,"Richard Hinchcliffe. ","M",{"$f":"VLOOKUP(B7,'2018 Handicap Times'!A:B,2,0)+F7","v":"00:34:58"},"00:33:30","00:31:43","- 01:47",null,30,26,""]
[4,"Jack Mitchell","M",{"$f":"VLOOKUP(B8,'2018 Handicap Times'!A:B,2,0)+F8","v":"00:35:10"},"00:24:45","00:23:10","- 01:35",null,1,1,""]
[4,"Chris Mitchell        ","M",{"$f":"VLOOKUP(B9,'2018 Handicap Times'!A:B,2,0)+F9","v":"00:35:10"},"00:32:15","00:30:40","- 01:35",null,24,22,""]
[6,"Jed Langley","M",{"$f":"VLOOKUP(B10,'2018 Handicap Times'!A:B,2,0)+F10","v":"00:35:12"},"00:32:30","00:30:57","- 01:33",null,26,23,""]
[7,"Dave Brailsford","M",{"$f":"VLOOKUP(B11,'2018 Handicap Times'!A:B,2,0)+F11","v":"00:35:15"},"00:30:30","00:29:00","- 01:30",null,15,14,""]
[8,"Bradley Bannister","M",{"$f":"VLOOKUP(B12,'2018 Handicap Times'!A:B,2,0)+F12","v":"00:35:23"},"00:33:30","00:32:08","- 01:22",null,36,30,""]
[9,"Richard Brooke.       ","M",{"$f":"VLOOKUP(B13,'2018 Handicap Times'!A:B,2,0)+F13","v":"00:35:29"},"00:36:45","00:35:29","- 01:16",null,41,32,""]
[10,"Rosie Boughton","F",{"$f":"VLOOKUP(B14,'2018 Handicap Times'!A:B,2,0)+F14","v":"00:35:51"},"00:33:30","00:32:36","- 00:54",null,38,"",8]
[11,"Matthew Kellet","M",{"$f":"VLOOKUP(B15,'2018 Handicap Times'!A:B,2,0)+F15","v":"00:35:57"},"00:32:45","00:31:57","- 00:48",null,33,28,""]
[11,"Rebecca Zserdicky","F",{"$f":"VLOOKUP(B16,'2018 Handicap Times'!A:B,2,0)+F16","v":"00:35:57"},"00:32:45","00:31:57","- 00:48",null,33,"",6]
[13,"Neil Shackleton","M",{"$f":"VLOOKUP(B17,'2018 Handicap Times'!A:B,2,0)+F17","v":"00:36:06"},"00:31:45","00:31:06","- 00:39",null,27,24,""]
[14,"Steve Wilkinson","M",{"$f":"VLOOKUP(B18,'2018 Handicap Times'!A:B,2,0)+F18","v":"00:36:17"},"00:35:00","00:34:32","- 00:28",null,40,31,""]
[15,"Daniel Franks","M",{"$f":"VLOOKUP(B19,'2018 Handicap Times'!A:B,2,0)+F19","v":"00:36:36"},"00:24:15","00:24:06","- 00:09",null,4,4,""]
[16,"Ben Khan","M",{"$f":"VLOOKUP(B20,'2018 Handicap Times'!A:B,2,0)+F20","v":"00:36:41"},"00:25:30","00:25:26","- 00:04",null,5,5,""]
[17,"Joanne Biltcliffe","F",{"$f":"VLOOKUP(B21,'2018 Handicap Times'!A:B,2,0)+F21","v":"00:36:43"},"00:32:15","00:32:13","- 00:02",null,37,"",7]
[17,"Jonathan Stokoe","M",{"$f":"VLOOKUP(B22,'2018 Handicap Times'!A:B,2,0)+F22","v":"00:36:43"},"00:31:45","00:31:43","- 00:02",null,30,26,""]
[19,"Ian Richardson","M",{"$f":"VLOOKUP(B23,'2018 Handicap Times'!A:B,2,0)+F23","v":"00:36:50"},"00:26:26","00:26:31","+ 00:05",null,7,7,""]
[19,"Matthew Hill","M",{"$f":"VLOOKUP(B24,'2018 Handicap Times'!A:B,2,0)+F24","v":"00:36:50"},"00:23:30","00:23:35","+ 00:05",null,2,2,""]
[21,"Mark Bostock","M",{"$f":"VLOOKUP(B25,'2018 Handicap Times'!A:B,2,0)+F25","v":"00:36:52"},"00:23:30","00:23:37","+ 00:07",null,3,3,""]
[22,"Alex Potter","F",{"$f":"VLOOKUP(B26,'2018 Handicap Times'!A:B,2,0)+F26","v":"00:36:55"},"00:31:30","00:31:40","+ 00:10",null,29,"",4]
[23,"Lee Verity","M",{"$f":"VLOOKUP(B27,'2018 Handicap Times'!A:B,2,0)+F27","v":"00:36:57"},"00:31:00","00:31:12","+ 00:12",null,28,25,""]
[24,"Tony Smith","M",{"$f":"VLOOKUP(B28,'2018 Handicap Times'!A:B,2,0)+F28","v":"00:37:04"},"00:29:30","00:29:49","+ 00:19",null,21,19,""]
[25,"Helen Beck","F",{"$f":"VLOOKUP(B29,'2018 Handicap Times'!A:B,2,0)+F29","v":"00:37:08"},"00:29:00","00:29:23","+ 00:23",null,18,"",2]
[26,"Shaun Mollart","M",{"$f":"VLOOKUP(B30,'2018 Handicap Times'!A:B,2,0)+F30","v":"00:37:10"},"00:29:30","00:29:55","+ 00:25",null,22,20,""]
[27,"Daz Hewitt","M",{"$f":"VLOOKUP(B31,'2018 Handicap Times'!A:B,2,0)+F31","v":"00:37:19"},"00:29:45","00:30:19","+ 00:34",null,23,21,""]
[28,"Abbey Brooke ","F",{"$f":"VLOOKUP(B32,'2018 Handicap Times'!A:B,2,0)+F32","v":"00:37:21"},"00:28:15","00:28:51","+ 00:36",null,14,"",1]
[29,"Hayley Newbound","F",{"$f":"VLOOKUP(B33,'2018 Handicap Times'!A:B,2,0)+F33","v":"00:37:22"},"00:31:15","00:31:52","+ 00:37",null,32,"",5]
[30,"Alistair Robinson","M",{"$f":"VLOOKUP(B34,'2018 Handicap Times'!A:B,2,0)+F34","v":"00:37:51"},"00:26:45","00:27:51","+ 01:06",null,11,11,""]
[31,"Bailey Mann.    ","M",{"$f":"VLOOKUP(B35,'2018 Handicap Times'!A:B,2,0)+F35","v":"00:37:52"},"00:25:45","00:26:52","+ 01:07",null,8,8,""]
[32,"Craig Davidson","M",{"$f":"VLOOKUP(B36,'2018 Handicap Times'!A:B,2,0)+F36","v":"00:37:55"},"00:25:00","00:26:10","+ 01:10",null,6,6,""]
[33,"Josh Dawson.       ","M",{"$f":"VLOOKUP(B37,'2018 Handicap Times'!A:B,2,0)+F37","v":"00:38:00"},"00:27:30","00:28:45","+ 01:15",null,13,13,""]
[34,"Adrian Mann           ","M",{"$f":"VLOOKUP(B38,'2018 Handicap Times'!A:B,2,0)+F38","v":"00:38:10"},"00:34:15","00:35:40","+ 01:25",null,42,33,""]
[35,"Shirley Griffths","F",{"$f":"VLOOKUP(B39,'2018 Handicap Times'!A:B,2,0)+F39","v":"00:38:12"},"00:33:00","00:34:27","+ 01:27",null,39,"",9]
[36,"Barrie Wain","M",{"$f":"VLOOKUP(B40,'2018 Handicap Times'!A:B,2,0)+F40","v":"00:38:14"},"00:28:15","00:29:44","+ 01:29",null,20,18,""]
[37,"Ian Shipley","M",{"$f":"VLOOKUP(B41,'2018 Handicap Times'!A:B,2,0)+F41","v":"00:38:15"},"00:30:30","00:32:00","+ 01:30",null,35,29,""]
[38,"Daniel Kesete","M",{"$f":"VLOOKUP(B42,'2018 Handicap Times'!A:B,2,0)+F42","v":"00:38:20"},"00:27:30","00:29:05","+ 01:35",null,17,16,""]
[39,"Stewart Knowles","M",{"$f":"VLOOKUP(B43,'2018 Handicap Times'!A:B,2,0)+F43","v":"00:38:25"},"00:25:30","00:27:10","+ 01:40",null,9,9,""]
[39,"Helen Singleton","F",{"$f":"VLOOKUP(B44,'2018 Handicap Times'!A:B,2,0)+F44","v":"00:38:25"},"00:29:00","00:30:40","+ 01:40",null,24,"",3]
[41,"Brendon Wain","M",{"$f":"VLOOKUP(B45,'2018 Handicap Times'!A:B,2,0)+F45","v":"00:39:10"},"00:27:00","00:29:25","+ 02:25",null,19,17,""]
[41,"Chris Peace","M",{"$f":"VLOOKUP(B46,'2018 Handicap Times'!A:B,2,0)+F46","v":"00:39:10"},"00:35:00","00:37:25","+ 02:25",null,44,34,""]
[43,"Mark Mills","M",{"$f":"VLOOKUP(B47,'2018 Handicap Times'!A:B,2,0)+F47","v":"00:40:15"},"00:25:30","00:29:00","+ 03:30",null,15,14,""]
[44,"Poppy Thorpe","F",{"$f":"VLOOKUP(B48,'2018 Handicap Times'!A:B,2,0)+F48","v":"00:41:23"},"00:32:00","00:36:08","+ 04:08",null,43,"",10]

{"sheet":"2018 Handicap Times","index":2,"n_rows":138,"n_cols":2,"rows_kept":138,"cut":false,"hidden":true,"merged":[]}
["Name","Elapsed Start Time"]
["Dianne Simmons","00:00:00"]
["Sarah Barker",1]
["Mark Box",2]
["Richard Brooke.       ","00:00:00"]
["Agnes Brooke","00:00:30"]
["Pauline Taylor","00:00:30"]
["Elizabeth Turner","00:01:00"]
["Mandy Geary","00:01:00"]
["Julie Burrell","00:01:45"]
["Steve Wilkinson","00:01:45"]
["Chris Peace","00:01:45"]
["Emma Pearson       ","00:02:15"]
["Paul Taylor","00:02:30"]
["Sharon Sykes","00:02:30"]
["Adrian Mann           ","00:02:30"]
["Adrian Howden","00:02:45"]
["Philip Coursey","00:02:45"]
["Rachel Lee","00:02:45"]
["Michael Page","00:03:00"]
["Bradley Bannister","00:03:15"]
["Richard Hinchcliffe. ","00:03:15"]
["Rosie Boughton","00:03:15"]
["Shirley Griffths","00:03:45"]
["Emma Preston","00:03:45"]
["Keith Jones","00:03:45"]
["Neil Shackleton.      ","00:04:00"]
["Rebecca Zserdicky","00:04:00"]
["Matthew Kellet","00:04:00"]
["Eileen Mannion","00:04:15"]
["Richard West","00:04:15"]
["Jed Langley","00:04:15"]
["Chris Mitchell        ","00:04:30"]
["Joanne Biltcliffe","00:04:30"]
["Adrian Mann","00:04:45"]
["David Dawson","00:04:45"]
["Emma Preston. ","00:04:45"]
["Jenny Latham","00:04:45"]
["Steve Clarke","00:04:45"]
["Poppy Thorpe. ","00:04:45"]
["Emily Stevenson","00:05:00"]
["Natalie Duffield-Moore","00:05:00"]
["Peter Gooding","00:05:00"]
["Jonathan Stokoe","00:05:00"]
["Neil Shackleton","00:05:00"]
["Craig Orr","00:05:15"]
["Daniel Benjamin","00:05:15"]
["Holly Kitching","00:05:15"]
["Nigel Woollin","00:05:15"]
["Poppy Thorpe","00:05:15"]
["Steve Guest","00:05:15"]
["Alex Potter","00:05:15"]
["Jeremy Frain","00:05:30"]
["Hayley Newbound","00:05:30"]
["Sarah Bostwick","00:05:45"]
["Lee Verity","00:05:45"]
["Louise Taylor","00:06:00"]
["Tony White","00:06:00"]
["Brian Horsfall","00:06:15"]
["Julie Greenwood","00:06:15"]
["Paul Robinson","00:06:15"]
["Dave Brailsford","00:06:15"]
["Ian Shipley","00:06:15"]
["Chris Mitchell","00:06:30"]
["Lucie Hall","00:06:30"]
["Mark Whitehouse","00:06:30"]
["Paul Lycett","00:06:30"]
["Thomas Allen","00:06:30"]
["James Morris","00:06:45"]
["Nick Mannion","00:06:45"]
["Dave Brooke","00:07:00"]
["Hugh Allen","00:07:00"]
["Lee Barker (G)","00:07:00"]
["Lucy  Hall ","00:07:00"]
["Martin Holding","00:07:00"]
["Andrew Nicholson","00:07:00"]
["Daz Hewitt","00:07:00"]
["Jacqui Khoueiry","00:07:15"]
["Shaun Mollart","00:07:15"]
["Tony Smith","00:07:15"]
["Patrick O'Connor","00:07:30"]
["Selim Khan","00:07:30"]
["Marwan Khoueiry","00:07:45"]
["Nicola Steel","00:07:45"]
["Helen Beck","00:07:45"]
["Helen Singleton","00:07:45"]
["Bethan Oates","00:08:00"]
["India Elliott","00:08:00"]
["Katie McHale","00:08:00"]
["Matthew Dodsworth","00:08:00"]
["Chris Rippon","00:08:15"]
["Paul Minns","00:08:15"]
["Pete McNamara","00:08:15"]
["Abbey Brooke ","00:08:30"]
["Barrie Wain","00:08:30"]
["Craig Heppenstall","00:08:45"]
["Lucy Robinson","00:08:45"]
["Faye Beckett","00:09:00"]
["Jonathan Prideaux","00:09:00"]
["Liam Grosse","00:09:15"]
["Daniel Kesete","00:09:15"]
["Josh Dawson.       ","00:09:15"]
["Callum Gaunt.    ","00:09:30"]
["Glenn Shelley","00:09:30"]
["Neil Dutton","00:09:30"]
["Ryan Williams (G)","00:09:30"]
["Zach Frankish.    ","00:09:30"]
["Brendon Wain","00:09:45"]
["Harry Mallinson","00:10:00"]
["Tom Coney","00:10:00"]
["Alistair Robinson","00:10:00"]
["Julie Briscoe","00:10:15"]
["Ian Richardson","00:10:19"]
["Andy Cartwright","00:10:45"]
["Chris Price","00:10:45"]
["Liam O'Flaherty","00:10:45"]
["Nathan Elliot","00:10:45"]
["Ross Penny","00:11:00"]
["Bailey Mann.    ","00:11:00"]
["Chris Ward","00:11:15"]
["Stephen Tilford","00:11:15"]
["Mark Mills","00:11:15"]
["Stewart Knowles","00:11:15"]
["Ben Khan","00:11:15"]
["Chris Hunter","00:11:30"]
["Jack Turner","00:11:45"]
["Simon Midwood","00:11:45"]
["Craig Davidson","00:11:45"]
["Jack Mitchell","00:12:00"]
["Paul Marchant","00:12:15"]
["Matthew O'Connor","00:12:30"]
["Daniel Franks","00:12:30"]
["Ben Butler","00:12:45"]
["Ben Read","00:12:45"]
["Dale Worton","00:12:45"]
["Adam Peers","00:13:15"]
["Mark Bostock","00:13:15"]
["Matthew Hill","00:13:15"]